BEGIN:VCALENDAR
VERSION:2.0
PRODID:-//wp-events-plugin.com//7.2.3.1//EN
BEGIN:VEVENT
UID:14@deerruncenterville.com
DTSTART:20231003T130000Z
DTEND:20231004T160000Z
DTSTAMP:20221018T232950Z
URL:https://deerruncenterville.com/events/bridge-club-2023-10-03/
SUMMARY:Bridge Club 1 - 4
DESCRIPTION:Bridge Club meets from 1 p.m. to 4 p.m. on the first Tuesday of
  every month at the Clubhouse. Contact Carolyn Basford at 937-434-4197.
END:VEVENT
END:VCALENDAR