BEGIN:VCALENDAR
VERSION:2.0
PRODID:-//wp-events-plugin.com//7.2.3.1//EN
BEGIN:VEVENT
UID:574@deerruncenterville.com
DTSTART;VALUE=DATE:20230217
DTEND;VALUE=DATE:20230218
DTSTAMP:20221208T160511Z
URL:https://deerruncenterville.com/events/clubhouse-reserved-10/
SUMMARY:CLUBHOUSE RESERVED
DESCRIPTION:Clubhouse Reserved for a Private Party\n
CATEGORIES:Private Party
END:VEVENT
END:VCALENDAR