BEGIN:VCALENDAR
VERSION:2.0
PRODID:-//wp-events-plugin.com//7.2.3.1//EN
BEGIN:VEVENT
UID:562@deerruncenterville.com
DTSTART;VALUE=DATE:20221114
DTEND;VALUE=DATE:20221115
DTSTAMP:20220926T185039Z
URL:https://deerruncenterville.com/events/clubhouse-reserved-2/
SUMMARY:CLUBHOUSE RESERVED
DESCRIPTION:Clubhouse Reserved for a Private Party\n\n&nbsp\;\n\n&nbsp\;
END:VEVENT
END:VCALENDAR