BEGIN:VCALENDAR
VERSION:2.0
PRODID:-//wp-events-plugin.com//7.2.3.1//EN
BEGIN:VEVENT
UID:590@deerruncenterville.com
DTSTART;VALUE=DATE:20230930
DTEND;VALUE=DATE:20231001
DTSTAMP:20230807T173620Z
URL:https://deerruncenterville.com/events/clubhouse-reserved-21/
SUMMARY:CLUBHOUSE RESERVED
DESCRIPTION:Clubhouse Reserved for a Private Party\n\n&nbsp\;\n        
     \n 
CATEGORIES:Private Party
END:VEVENT
END:VCALENDAR