BEGIN:VCALENDAR
VERSION:2.0
PRODID:-//wp-events-plugin.com//7.2.3.1//EN
BEGIN:VEVENT
UID:658@deerruncenterville.com
DTSTART;VALUE=DATE:20231224
DTEND;VALUE=DATE:20231225
DTSTAMP:20231128T022205Z
URL:https://deerruncenterville.com/events/clubhouse-reserved-35/
SUMMARY:CLUBHOUSE RESERVED
DESCRIPTION:Clubhouse Reserved for a Private Party\n\n&nbsp\;\n        
     \n 
CATEGORIES:Private Party
END:VEVENT
END:VCALENDAR