BEGIN:VCALENDAR
VERSION:2.0
PRODID:-//wp-events-plugin.com//7.2.3.1//EN
BEGIN:VEVENT
UID:659@deerruncenterville.com
DTSTART;VALUE=DATE:20231228
DTEND;VALUE=DATE:20231229
DTSTAMP:20231128T022243Z
URL:https://deerruncenterville.com/events/clubhouse-reserved-36/
SUMMARY:CLUBHOUSE RESERVED
DESCRIPTION:Clubhouse Reserved for a Private Party\n\n&nbsp\;\n        
     \n 
CATEGORIES:Private Party
END:VEVENT
END:VCALENDAR