BEGIN:VCALENDAR
VERSION:2.0
PRODID:-//wp-events-plugin.com//7.2.3.1//EN
BEGIN:VEVENT
UID:662@deerruncenterville.com
DTSTART;VALUE=DATE:20240622
DTEND;VALUE=DATE:20240623
DTSTAMP:20240109T151736Z
URL:https://deerruncenterville.com/events/clubhouse-reserved-39/
SUMMARY:CLUBHOUSE RESERVED
DESCRIPTION:Clubhouse Reserved for a Private Party\n\n&nbsp\;\n\n&nbsp\;\n 
    
CATEGORIES:Private Party
END:VEVENT
END:VCALENDAR