BEGIN:VCALENDAR
VERSION:2.0
PRODID:-//wp-events-plugin.com//7.2.3.1//EN
BEGIN:VEVENT
UID:666@deerruncenterville.com
DTSTART;VALUE=DATE:20240507
DTEND;VALUE=DATE:20240508
DTSTAMP:20240422T162141Z
URL:https://deerruncenterville.com/events/clubhouse-reserved-41/
SUMMARY:CLUBHOUSE RESERVED
DESCRIPTION:Clubhouse Reserved for a Private Party\n\n&nbsp\;\n        
     \n 
CATEGORIES:Private Party
END:VEVENT
END:VCALENDAR