BEGIN:VCALENDAR
VERSION:2.0
PRODID:-//wp-events-plugin.com//7.2.3.1//EN
BEGIN:VEVENT
UID:567@deerruncenterville.com
DTSTART;VALUE=DATE:20221129
DTEND;VALUE=DATE:20221130
DTSTAMP:20221018T232248Z
URL:https://deerruncenterville.com/events/clubhouse-reserved-5/
SUMMARY:CLUBHOUSE RESERVED
DESCRIPTION:Clubhouse Reserved for a Private Party\n
CATEGORIES:Private Party
END:VEVENT
END:VCALENDAR