BEGIN:VCALENDAR
VERSION:2.0
PRODID:-//wp-events-plugin.com//7.2.3.1//EN
BEGIN:VEVENT
UID:569@deerruncenterville.com
DTSTART;VALUE=DATE:20221203
DTEND;VALUE=DATE:20221204
DTSTAMP:20221116T141242Z
URL:https://deerruncenterville.com/events/clubhouse-reserved-6/
SUMMARY:CLUBHOUSE RESERVED
DESCRIPTION:Clubhouse Reserved for a Private Party
CATEGORIES:Private Party
END:VEVENT
END:VCALENDAR