BEGIN:VCALENDAR
VERSION:2.0
PRODID:-//wp-events-plugin.com//7.2.3.1//EN
BEGIN:VEVENT
UID:572@deerruncenterville.com
DTSTART;VALUE=DATE:20221226
DTEND;VALUE=DATE:20221227
DTSTAMP:20221116T141736Z
URL:https://deerruncenterville.com/events/clubhouse-reserved-9/
SUMMARY:CLUBHOUSE RESERVED
DESCRIPTION:Clubhouse Reserved for a Private Party\n
CATEGORIES:Private Party
END:VEVENT
END:VCALENDAR