BEGIN:VCALENDAR
VERSION:2.0
PRODID:-//wp-events-plugin.com//7.2.3.1//EN
BEGIN:VEVENT
UID:622@deerruncenterville.com
DTSTART:20231210T160000Z
DTEND:20231210T190000Z
DTSTAMP:20231031T011711Z
URL:https://deerruncenterville.com/events/deer-run-annual-christmas-party/
SUMMARY:Deer Run Annual. Christmas Party
DESCRIPTION:Our Annual Christmas Party will be December 10th\, from 4PM to 
 7PM at the Clubhouse! BYOB\, an appetizer or dessert to share\, and a Toy\
 nto donate to Children’s Hospital!\n\n 
CATEGORIES:Private Party
END:VEVENT
END:VCALENDAR