BEGIN:VCALENDAR
VERSION:2.0
PRODID:-//wp-events-plugin.com//7.2.3.1//EN
BEGIN:VEVENT
UID:675@deerruncenterville.com
DTSTART;TZID=America/New_York:20240730T180000
DTEND;TZID=America/New_York:20240730T190000
DTSTAMP:20240624T201718Z
URL:https://deerruncenterville.com/events/deer-run-annual-meeting-7-30-24-
 600-p-m/
SUMMARY:Deer Run Annual Meeting 7/30/24\, 6:00 p.m.
DESCRIPTION:Save the Date!  The Deer Run annual Owner's Meeting will be he
 ld July 30th at 6:00 p.m. at the American Legion Hall\, 5700 Kentshire Dri
 ve\, Kettering OH 45440 (the same place it was held last year).\n\nStay tu
 ned. More information to come!\n\n&nbsp\;
CATEGORIES:Community Meeting
LOCATION:5700 Kentshire Drive\, 5700 Kentshire Drive\, Kettering OH 45440\,
  Kettering\, Ohio\, 45440\, United States
X-APPLE-STRUCTURED-LOCATION;VALUE=URI;X-ADDRESS=5700 Kentshire Drive\, Kett
 ering OH 45440\, Kettering\, Ohio\, 45440\, United States;X-APPLE-RADIUS=1
 00;X-TITLE=5700 Kentshire Drive:geo:0,0
END:VEVENT
BEGIN:VTIMEZONE
TZID:America/New_York
X-LIC-LOCATION:America/New_York
BEGIN:DAYLIGHT
DTSTART:20240310T030000
TZOFFSETFROM:-0500
TZOFFSETTO:-0400
TZNAME:EDT
END:DAYLIGHT
END:VTIMEZONE
END:VCALENDAR