BEGIN:VCALENDAR
VERSION:2.0
PRODID:-//wp-events-plugin.com//7.2.3.1//EN
BEGIN:VEVENT
UID:623@deerruncenterville.com
DTSTART:20240204T170000Z
DTEND:20240204T200000Z
DTSTAMP:20240117T192743Z
URL:https://deerruncenterville.com/events/deer-run-chili-souper-bowl-party
 /
SUMMARY:Deer Run Soup'r Chili Bowl Party
DESCRIPTION:You can also click HERE to RSVP!\n\n\n\n&nbsp\;\n         
    \n 
CATEGORIES:Private Party
END:VEVENT
END:VCALENDAR