BEGIN:VCALENDAR
VERSION:2.0
PRODID:-//wp-events-plugin.com//7.2.3.1//EN
BEGIN:VEVENT
UID:664@deerruncenterville.com
DTSTART;TZID=America/New_York:20240408T140000
DTEND;TZID=America/New_York:20240408T160000
DTSTAMP:20240307T195918Z
URL:https://deerruncenterville.com/events/deer-run-eclipse-viewing-party/
SUMMARY:Deer Run Eclipse Viewing Party
DESCRIPTION:People are coming to Ohio from across the country to witness th
 is year's lunar event.  Deer Run residents can just look up!  If you'd l
 ike to make a party of it\, join your neighbors outside the Clubhouse betw
 een 2:00 and 4:00 pm (weather permitting).  Chairs and viewing glasses wi
 ll be available.  Bring your own beverage and sense of wonder!\n\nThanks 
 to Sue Whitaker and Kathy Gerardi for coordinating.  :)\n\n&nbsp\;\n\n
CATEGORIES:Social/Recreational
END:VEVENT
BEGIN:VTIMEZONE
TZID:America/New_York
X-LIC-LOCATION:America/New_York
BEGIN:DAYLIGHT
DTSTART:20240310T030000
TZOFFSETFROM:-0500
TZOFFSETTO:-0400
TZNAME:EDT
END:DAYLIGHT
END:VTIMEZONE
END:VCALENDAR