BEGIN:VCALENDAR
VERSION:2.0
PRODID:-//wp-events-plugin.com//7.2.3.1//EN
BEGIN:VEVENT
UID:665@deerruncenterville.com
DTSTART;TZID=America/New_York:20240408T160000
DTEND;TZID=America/New_York:20240408T190000
DTSTAMP:20240318T204213Z
URL:https://deerruncenterville.com/events/deer-run-pool-party-june-2nd-4-7
 /
SUMMARY:Deer Run Pool Party: June 2nd\, 4-7
DESCRIPTION:We had so much fun last year closing the pool with musician Ric
 k Sylvester\, we've invited him back this year to help us open it!\n\nMore
  information will be provided in the future but for now\, clear your calen
 dar!  There will be games\,  door prizes\, food\, and fellowship.  A gr
 eat way to start the summer!  :)\n\n&nbsp\;\n\n&nbsp\;
CATEGORIES:Social/Recreational
END:VEVENT
BEGIN:VTIMEZONE
TZID:America/New_York
X-LIC-LOCATION:America/New_York
BEGIN:DAYLIGHT
DTSTART:20240310T030000
TZOFFSETFROM:-0500
TZOFFSETTO:-0400
TZNAME:EDT
END:DAYLIGHT
END:VTIMEZONE
END:VCALENDAR