BEGIN:VCALENDAR
VERSION:2.0
PRODID:-//wp-events-plugin.com//7.2.3.1//EN
BEGIN:VEVENT
UID:683@deerruncenterville.com
DTSTART:20240930T180000Z
DTEND:20240930T190000Z
DTSTAMP:20240920T190728Z
URL:https://deerruncenterville.com/events/deer-run-reserve-and-open-meetin
 g/
SUMMARY:Deer Run Reserve and Open Meeting
DESCRIPTION:There will be a meeting at the clubhouse at 6PM on September 30
 th\, to review and discuss the Reserve Study.  Matt Ferguson from Reserve
  Advisors will be our guest speaker\, and an open meeting will follow.If y
 ou have any questions you would like the Board to address at the open meet
 ing\, click this link to complete and submit the form: Deer Run Board Inqu
 iry Form\n\n&nbsp\;\n\n&nbsp\;
END:VEVENT
END:VCALENDAR