BEGIN:VCALENDAR
VERSION:2.0
PRODID:-//wp-events-plugin.com//7.2.3.1//EN
BEGIN:VEVENT
UID:589@deerruncenterville.com
DTSTART;TZID=America/New_York:20230725T180000
DTEND;TZID=America/New_York:20230725T190000
DTSTAMP:20230725T143638Z
URL:https://deerruncenterville.com/events/elect-new-board-members-7-25-23-
 600-p-m/
SUMMARY:Elect New Board Members: 7/25/23\, 6:00 p.m.
DESCRIPTION:The Deer Run annual Owner's Meeting will be held Tuesday\, July
  25th at 6:00 p.m. at the American Legion Hall\, 5700 Kentshire Drive\, Ke
 ttering OH 45440 (the same place it was held last year). Click the link be
 low to read the entire packet of information for the meeting including how
  to run for the Board! If you cannot attend\, please give your proxy to yo
 ur neighbor to ensure there is a quorum.  If you or someone you know need
 s a ride to the meeting\, please contact cherylmahoney@gmail.com.
CATEGORIES:Community Meeting
LOCATION:5700 Kentshire Drive\, 5700 Kentshire Drive\, Kettering OH 45440\,
  Kettering\, Ohio\, 45440\, United States
X-APPLE-STRUCTURED-LOCATION;VALUE=URI;X-ADDRESS=5700 Kentshire Drive\, Kett
 ering OH 45440\, Kettering\, Ohio\, 45440\, United States;X-APPLE-RADIUS=1
 00;X-TITLE=5700 Kentshire Drive:geo:0,0
END:VEVENT
BEGIN:VTIMEZONE
TZID:America/New_York
X-LIC-LOCATION:America/New_York
BEGIN:DAYLIGHT
DTSTART:20230312T030000
TZOFFSETFROM:-0500
TZOFFSETTO:-0400
TZNAME:EDT
END:DAYLIGHT
END:VTIMEZONE
END:VCALENDAR