BEGIN:VCALENDAR
VERSION:2.0
PRODID:-//wp-events-plugin.com//7.2.3.1//EN
BEGIN:VEVENT
UID:587@deerruncenterville.com
DTSTART:20230917T160000Z
DTEND:20230917T190000Z
DTSTAMP:20230713T212015Z
URL:https://deerruncenterville.com/events/end-of-summer-social/
SUMMARY:End of Summer Social
DESCRIPTION:There will be a social event at the pool on September 17th feat
 uring music by Rick Sylvester from 4-7 pm.  For more information and to h
 elp out\, contact Sue Whitaker at stevesue5960@yahoo.com
CATEGORIES:Social/Recreational
END:VEVENT
END:VCALENDAR