BEGIN:VCALENDAR
VERSION:2.0
PRODID:-//wp-events-plugin.com//7.2.3.1//EN
BEGIN:VEVENT
UID:568@deerruncenterville.com
DTSTART:20221209T160000Z
DTEND:20221209T190000Z
DTSTAMP:20221107T205857Z
URL:https://deerruncenterville.com/events/holiday-food-truck-december-9th/
SUMMARY:Holiday Food Truck\, 12/9\, 4-7
DESCRIPTION:&nbsp\;\n\n\n\n\n\nHoliday Food Truck Party Dec 9\n\n\n\n&nbsp\
 ;
CATEGORIES:Social/Recreational
END:VEVENT
END:VCALENDAR