BEGIN:VCALENDAR
VERSION:2.0
PRODID:-//wp-events-plugin.com//7.2.3.1//EN
BEGIN:VEVENT
UID:561@deerruncenterville.com
DTSTART:20221026T160000Z
DTEND:20221026T190000Z
DTSTAMP:20221018T232326Z
URL:https://deerruncenterville.com/events/open-board-meeting/
SUMMARY:Food Truck Social 4-7
DESCRIPTION:October 26th between 4:00 and 7:00 p.m. Come enjoy some Smokin'
  Inferno BBQ with your neighbors and get to know your Deer Run Board membe
 rs.  We are planning on an outside event in the grassy area next to the p
 ool\, so please bring lawn chairs to relax and enjoy the social. The clubh
 ouse will be open if the weather is cold or rainy.  Please feel free to i
 nvite friends to partake.  Pop\, tea\, and water will be provided.  Che
 ck out Smokin' Inferno BBQ on Facebook and plan to take some home if you'd
  like!\n\nSMOKIN' INFERNO BBQ MENU\n\nPlease RSVP to carlenemccullough@to
 wneproperties.com
ATTACH;FMTTYPE=image/jpeg:https://deerruncenterville.com/wp-content/upload
 s/2022/09/smokin-infernal-bbq.png
CATEGORIES:Community Meeting
END:VEVENT
END:VCALENDAR