BEGIN:VCALENDAR
VERSION:2.0
PRODID:-//wp-events-plugin.com//7.2.3.1//EN
BEGIN:VEVENT
UID:585@deerruncenterville.com
DTSTART:20230627T180000Z
DTEND:20230627T190000Z
DTSTAMP:20230626T194450Z
URL:https://deerruncenterville.com/events/open-meeting-june-27th-at-600-pm
 /
SUMMARY:Open Meeting June 27th at 6:00 pm
DESCRIPTION:This is a friendly reminder that the Open Meeting will be held 
 at the Clubhouse on Tuesday\, June 27th\, at 6PM.  In an effort to be as 
 efficient as possible\, to field as many questions as possible\, please fi
 ll out the enclosed attachment and return to Towne Properties by no later 
 than June 23rd at 5PM.\n\nQuestions may be sent via email to SarahLuttrell
 @TowneProperties.com or mailed to:  Towne Properties\, 6540 Centerville B
 usiness Parkway\, Dayton\, OH 45459.  Please make sure to include as much
  information as possible when submitting your form\, to ensure your questi
 on(s) will be addressed thoroughly.\n\nThank you in advance for your coope
 ration--we hope to see you there!
CATEGORIES:Community Meeting
END:VEVENT
END:VCALENDAR