BEGIN:VCALENDAR
VERSION:2.0
PRODID:-//wp-events-plugin.com//7.2.3.1//EN
BEGIN:VEVENT
UID:553@deerruncenterville.com
DTSTART;VALUE=DATE:20220919
DTEND;VALUE=DATE:20220920
DTSTAMP:20220917T120154Z
URL:https://deerruncenterville.com/events/pool-closes/
SUMMARY:Pool Closes
DESCRIPTION:
END:VEVENT
END:VCALENDAR