BEGIN:VCALENDAR
VERSION:2.0
PRODID:-//wp-events-plugin.com//7.2.3.1//EN
BEGIN:VEVENT
UID:556@deerruncenterville.com
DTSTART;VALUE=DATE:20221022
DTEND;VALUE=DATE:20221023
DTSTAMP:20220917T122824Z
URL:https://deerruncenterville.com/events/private-party-3/
SUMMARY:CLUBHOUSE RESERVED
DESCRIPTION:Clubhouse Reserved for a Private Party\n\n&nbsp\;\n        
     \n 
CATEGORIES:Private Party
END:VEVENT
END:VCALENDAR