BEGIN:VCALENDAR
VERSION:2.0
PRODID:-//wp-events-plugin.com//7.2.3.1//EN
BEGIN:VEVENT
UID:557@deerruncenterville.com
DTSTART;VALUE=DATE:20221124
DTEND;VALUE=DATE:20221125
DTSTAMP:20220917T122907Z
URL:https://deerruncenterville.com/events/private-party-4/
SUMMARY:CLUBHOUSE RESERVED
DESCRIPTION:Clubhouse Reserved for a Private Party\n
CATEGORIES:Private Party
END:VEVENT
END:VCALENDAR