BEGIN:VCALENDAR
VERSION:2.0
PRODID:-//wp-events-plugin.com//7.2.3.1//EN
BEGIN:VEVENT
UID:559@deerruncenterville.com
DTSTART;VALUE=DATE:20221218
DTEND;VALUE=DATE:20221219
DTSTAMP:20220917T123025Z
URL:https://deerruncenterville.com/events/private-party-6/
SUMMARY:CLUBHOUSE RESERVED
DESCRIPTION:Clubhouse Reserved for a Private Party\n
CATEGORIES:Private Party
END:VEVENT
END:VCALENDAR