BEGIN:VCALENDAR
VERSION:2.0
PRODID:-//wp-events-plugin.com//7.2.3.1//EN
BEGIN:VEVENT
UID:586@deerruncenterville.com
DTSTART:20230627T160000Z
DTEND:20230627T200000Z
DTSTAMP:20230626T194934Z
URL:https://deerruncenterville.com/events/sweet-ps-frozen-pops/
SUMMARY:Sweet P's Frozen Pops
DESCRIPTION:Sweet Ps announcement (1)
CATEGORIES:Social/Recreational
END:VEVENT
END:VCALENDAR